BEGIN:VCALENDAR
VERSION:2.0
PRODID:-//The Peyton Heart Project - ECPv6.15.20//NONSGML v1.0//EN
CALSCALE:GREGORIAN
METHOD:PUBLISH
X-WR-CALNAME:The Peyton Heart Project
X-ORIGINAL-URL:https://thepeytonheartproject.org
X-WR-CALDESC:Events for The Peyton Heart Project
REFRESH-INTERVAL;VALUE=DURATION:PT1H
X-Robots-Tag:noindex
X-PUBLISHED-TTL:PT1H
BEGIN:VTIMEZONE
TZID:America/New_York
BEGIN:DAYLIGHT
TZOFFSETFROM:-0500
TZOFFSETTO:-0400
TZNAME:EDT
DTSTART:20230312T070000
END:DAYLIGHT
BEGIN:STANDARD
TZOFFSETFROM:-0400
TZOFFSETTO:-0500
TZNAME:EST
DTSTART:20231105T060000
END:STANDARD
BEGIN:DAYLIGHT
TZOFFSETFROM:-0500
TZOFFSETTO:-0400
TZNAME:EDT
DTSTART:20240310T070000
END:DAYLIGHT
BEGIN:STANDARD
TZOFFSETFROM:-0400
TZOFFSETTO:-0500
TZNAME:EST
DTSTART:20241103T060000
END:STANDARD
BEGIN:DAYLIGHT
TZOFFSETFROM:-0500
TZOFFSETTO:-0400
TZNAME:EDT
DTSTART:20250309T070000
END:DAYLIGHT
BEGIN:STANDARD
TZOFFSETFROM:-0400
TZOFFSETTO:-0500
TZNAME:EST
DTSTART:20251102T060000
END:STANDARD
END:VTIMEZONE
BEGIN:VEVENT
DTSTART;VALUE=DATE:20240510
DTEND;VALUE=DATE:20240513
DTSTAMP:20260422T105013
CREATED:20240222T163821Z
LAST-MODIFIED:20240222T163925Z
UID:2750-1715299200-1715558399@thepeytonheartproject.org
SUMMARY:Big Texas Music & Food Festival
DESCRIPTION:HOWDY Y'ALL! The Peyton Heart Project is thrilled to participate at the inaugural @bigastexasfest coming up May 10-12  \nCome find us at Texas' newest outdoor country music festival kicking off this spring while our team works alongside these hometown festival organizers to rally our community together for a good cause!\nLearn more by following our friends @bigastexasfest on social media or visiting their website at www.BigAsTexasFest.com\nPLUS the festival is donating a portion of all net ticket proceeds back to its many nonprofit partners to further their amazing work in our community  \n\n\nHope to see y'all at the Montgomery Country Fairgrounds this May! #BigAsTexasFest #MakeAStatementInTheIndustry #MakeAnImpactInTheCommunity #peytonheartproject
URL:https://thepeytonheartproject.org/event/big-texas-music-food-festival/
LOCATION:Montgomery County Fairgrounds\, 9333 Airport Rd\, Conroe\, TX\, 77303\, United States
ATTACH;FMTTYPE=image/jpeg:https://thepeytonheartproject.org/wp-content/uploads/2024/02/Big-Texas-Festival.jpg
END:VEVENT
END:VCALENDAR